Package: NPARC Version: 1.21.0 Command: rm -rf NPARC.buildbin-libdir && mkdir NPARC.buildbin-libdir && /Users/biocbuild/BBS/utils/build-universal.sh NPARC_1.21.0.tar.gz /Library/Frameworks/R.framework/Resources/bin/R NPARC.buildbin-libdir StartedAt: 2025-10-14 02:57:45 -0400 (Tue, 14 Oct 2025) EndedAt: 2025-10-14 02:57:55 -0400 (Tue, 14 Oct 2025) EllapsedTime: 10.5 seconds RetCode: 0 Status: OK PackageFile: NPARC_1.21.0.tgz PackageFileSize: 2.501 MiB