Package: NPARC Version: 1.21.0 Maintainer: Nils Kurzawa MaintainerEmail: nilskurzawa at gmail.com git_url: https://git.bioconductor.org/packages/NPARC git_branch: devel git_last_commit: ca8e4e0 git_last_commit_date: 2025-04-15 11:53:00 -0400 (Tue, 15 Apr 2025)