Package: NOISeq Version: 2.55.0 Command: /home/biocbuild/bbs-3.23-bioc/R/bin/R CMD INSTALL NOISeq StartedAt: 2025-11-20 15:12:44 -0500 (Thu, 20 Nov 2025) EndedAt: 2025-11-20 15:12:54 -0500 (Thu, 20 Nov 2025) EllapsedTime: 9.7 seconds RetCode: 0 Status: OK