Package: NOISeq Version: 2.55.0 Command: /home/biocbuild/bbs-3.23-bioc/R/bin/R CMD build --keep-empty-dirs --no-resave-data NOISeq StartedAt: 2025-11-20 19:01:04 -0500 (Thu, 20 Nov 2025) EndedAt: 2025-11-20 19:01:55 -0500 (Thu, 20 Nov 2025) EllapsedTime: 51.1 seconds RetCode: 0 Status: OK PackageFile: NOISeq_2.55.0.tar.gz PackageFileSize: 2.057 MiB