Package: NOISeq Version: 2.53.0 Command: /Library/Frameworks/R.framework/Resources/bin/R CMD INSTALL NOISeq StartedAt: 2025-10-03 15:07:22 -0400 (Fri, 03 Oct 2025) EndedAt: 2025-10-03 15:07:27 -0400 (Fri, 03 Oct 2025) EllapsedTime: 4.9 seconds RetCode: 0 Status: OK