Package: NOISeq Version: 2.53.0 Command: /Library/Frameworks/R.framework/Resources/bin/R CMD build --keep-empty-dirs --no-resave-data NOISeq StartedAt: 2025-10-03 17:12:25 -0400 (Fri, 03 Oct 2025) EndedAt: 2025-10-03 17:12:55 -0400 (Fri, 03 Oct 2025) EllapsedTime: 30.3 seconds RetCode: 0 Status: OK PackageFile: NOISeq_2.53.0.tar.gz PackageFileSize: 2.057 MiB