Package: NOISeq Version: 2.53.0 Command: rm -rf NOISeq.buildbin-libdir && mkdir NOISeq.buildbin-libdir && /Users/biocbuild/BBS/utils/build-universal.sh NOISeq_2.53.0.tar.gz /Library/Frameworks/R.framework/Resources/bin/R NOISeq.buildbin-libdir StartedAt: 2025-10-03 22:48:48 -0400 (Fri, 03 Oct 2025) EndedAt: 2025-10-03 22:48:53 -0400 (Fri, 03 Oct 2025) EllapsedTime: 5.1 seconds RetCode: 0 Status: OK PackageFile: NOISeq_2.53.0.tgz PackageFileSize: 2.429 MiB