Package: NCIgraph Version: 1.59.0 Command: /home/biocbuild/bbs-3.23-bioc/R/bin/R CMD INSTALL NCIgraph StartedAt: 2025-11-07 15:33:52 -0500 (Fri, 07 Nov 2025) EndedAt: 2025-11-07 15:33:59 -0500 (Fri, 07 Nov 2025) EllapsedTime: 7.2 seconds RetCode: 0 Status: OK