Package: NCIgraph Version: 1.59.0 Command: /home/biocbuild/bbs-3.23-bioc/R/bin/R CMD build --keep-empty-dirs --no-resave-data NCIgraph StartedAt: 2025-11-07 18:54:17 -0500 (Fri, 07 Nov 2025) EndedAt: 2025-11-07 18:54:32 -0500 (Fri, 07 Nov 2025) EllapsedTime: 15.0 seconds RetCode: 0 Status: OK PackageFile: NCIgraph_1.59.0.tar.gz PackageFileSize: 201.6 KiB