Package: NBAMSeq Version: 1.25.0 Command: /home/biocbuild/R/R/bin/R CMD INSTALL NBAMSeq StartedAt: 2025-10-09 21:39:41 -0000 (Thu, 09 Oct 2025) EndedAt: 2025-10-09 21:40:20 -0000 (Thu, 09 Oct 2025) EllapsedTime: 39.7 seconds RetCode: 0 Status: OK