Package: NBAMSeq Version: 1.27.0 Command: /home/biocbuild/bbs-3.23-bioc/R/bin/R CMD INSTALL NBAMSeq StartedAt: 2025-11-05 15:43:30 -0500 (Wed, 05 Nov 2025) EndedAt: 2025-11-05 15:44:00 -0500 (Wed, 05 Nov 2025) EllapsedTime: 30.2 seconds RetCode: 0 Status: OK