Package: NBAMSeq Version: 1.27.0 Command: /home/biocbuild/bbs-3.23-bioc/R/bin/R CMD check --install=check:NBAMSeq.install-out.txt --library=/home/biocbuild/bbs-3.23-bioc/R/site-library --timings NBAMSeq_1.27.0.tar.gz StartedAt: 2025-11-07 01:44:39 -0500 (Fri, 07 Nov 2025) EndedAt: 2025-11-07 01:48:45 -0500 (Fri, 07 Nov 2025) EllapsedTime: 245.6 seconds RetCode: 0 Status: OK CheckDir: NBAMSeq.Rcheck Warnings: 0