Package: NBAMSeq Version: 1.27.0 Command: /home/biocbuild/bbs-3.23-bioc/R/bin/R CMD build --keep-empty-dirs --no-resave-data NBAMSeq StartedAt: 2025-11-05 19:00:03 -0500 (Wed, 05 Nov 2025) EndedAt: 2025-11-05 19:00:59 -0500 (Wed, 05 Nov 2025) EllapsedTime: 55.1 seconds RetCode: 0 Status: OK PackageFile: NBAMSeq_1.27.0.tar.gz PackageFileSize: 314.2 KiB