Package: NADfinder Version: 1.33.0 Command: /Library/Frameworks/R.framework/Resources/bin/R CMD INSTALL NADfinder StartedAt: 2025-10-16 15:40:37 -0400 (Thu, 16 Oct 2025) EndedAt: 2025-10-16 15:41:05 -0400 (Thu, 16 Oct 2025) EllapsedTime: 28.3 seconds RetCode: 0 Status: OK