Package: NADfinder Version: 1.33.0 Command: /Library/Frameworks/R.framework/Resources/bin/R CMD build --keep-empty-dirs --no-resave-data NADfinder StartedAt: 2025-10-16 17:24:14 -0400 (Thu, 16 Oct 2025) EndedAt: 2025-10-16 17:25:21 -0400 (Thu, 16 Oct 2025) EllapsedTime: 66.7 seconds RetCode: 0 Status: OK PackageFile: NADfinder_1.33.0.tar.gz PackageFileSize: 6.014 MiB