Package: NADfinder Version: 1.33.0 Command: rm -rf NADfinder.buildbin-libdir && mkdir NADfinder.buildbin-libdir && /Users/biocbuild/BBS/utils/build-universal.sh NADfinder_1.33.0.tar.gz /Library/Frameworks/R.framework/Resources/bin/R NADfinder.buildbin-libdir StartedAt: 2025-10-16 23:10:17 -0400 (Thu, 16 Oct 2025) EndedAt: 2025-10-16 23:10:48 -0400 (Thu, 16 Oct 2025) EllapsedTime: 30.6 seconds RetCode: 0 Status: OK PackageFile: NADfinder_1.33.0.tgz PackageFileSize: 6.512 MiB