Package: MutationalPatterns Version: 3.21.0 Command: /home/biocbuild/bbs-3.23-bioc/R/bin/R CMD INSTALL MutationalPatterns StartedAt: 2025-11-03 15:41:44 -0500 (Mon, 03 Nov 2025) EndedAt: 2025-11-03 15:42:03 -0500 (Mon, 03 Nov 2025) EllapsedTime: 18.6 seconds RetCode: 0 Status: OK