Package: MutationalPatterns Version: 3.21.0 Command: /home/biocbuild/bbs-3.23-bioc/R/bin/R CMD check --install=check:MutationalPatterns.install-out.txt --library=/home/biocbuild/bbs-3.23-bioc/R/site-library --timings MutationalPatterns_3.21.0.tar.gz StartedAt: 2025-11-05 01:44:27 -0500 (Wed, 05 Nov 2025) EndedAt: 2025-11-05 02:04:29 -0500 (Wed, 05 Nov 2025) EllapsedTime: 1201.9 seconds RetCode: 1 Status: ERROR CheckDir: MutationalPatterns.Rcheck Warnings: NA