Package: MungeSumstats Version: 1.17.4 Command: /home/biocbuild/bbs-3.22-bioc/R/bin/R CMD build --keep-empty-dirs --no-resave-data --md5 MungeSumstats StartedAt: 2025-09-29 19:13:39 -0400 (Mon, 29 Sep 2025) EndedAt: 2025-09-29 19:15:23 -0400 (Mon, 29 Sep 2025) EllapsedTime: 104.1 seconds RetCode: 0 Status: OK PackageFile: MungeSumstats_1.17.4.tar.gz PackageFileSize: 2.386 MiB