Package: MungeSumstats Version: 1.19.1 Command: /Library/Frameworks/R.framework/Resources/bin/R CMD INSTALL MungeSumstats StartedAt: 2025-11-21 15:20:54 -0500 (Fri, 21 Nov 2025) EndedAt: 2025-11-21 15:21:11 -0500 (Fri, 21 Nov 2025) EllapsedTime: 17.1 seconds RetCode: 0 Status: OK