Package: MungeSumstats Version: 1.19.1 Command: /Library/Frameworks/R.framework/Resources/bin/R CMD build --keep-empty-dirs --no-resave-data MungeSumstats StartedAt: 2025-11-21 17:06:09 -0500 (Fri, 21 Nov 2025) EndedAt: 2025-11-21 17:06:44 -0500 (Fri, 21 Nov 2025) EllapsedTime: 34.4 seconds RetCode: 0 Status: OK PackageFile: MungeSumstats_1.19.1.tar.gz PackageFileSize: 2.373 MiB