Package: MungeSumstats Version: 1.19.1 Command: rm -rf MungeSumstats.buildbin-libdir && mkdir MungeSumstats.buildbin-libdir && /Users/biocbuild/BBS/utils/build-universal.sh MungeSumstats_1.19.1.tar.gz /Library/Frameworks/R.framework/Resources/bin/R MungeSumstats.buildbin-libdir StartedAt: 2025-11-21 23:42:27 -0500 (Fri, 21 Nov 2025) EndedAt: 2025-11-21 23:42:48 -0500 (Fri, 21 Nov 2025) EllapsedTime: 21.4 seconds RetCode: 0 Status: OK PackageFile: MungeSumstats_1.19.1.tgz PackageFileSize: 2.759 MiB