Package: MultimodalExperiment Version: 1.11.0 Command: /home/biocbuild/bbs-3.23-bioc/R/bin/R CMD check --install=check:MultimodalExperiment.install-out.txt --library=/home/biocbuild/bbs-3.23-bioc/R/site-library --timings MultimodalExperiment_1.11.0.tar.gz StartedAt: 2025-11-19 02:43:42 -0500 (Wed, 19 Nov 2025) EndedAt: 2025-11-19 02:46:56 -0500 (Wed, 19 Nov 2025) EllapsedTime: 193.3 seconds RetCode: 0 Status: OK CheckDir: MultimodalExperiment.Rcheck Warnings: 0