Package: MultimodalExperiment Version: 1.11.0 Command: /home/biocbuild/bbs-3.23-bioc/R/bin/R CMD build --keep-empty-dirs --no-resave-data MultimodalExperiment StartedAt: 2025-11-18 19:47:27 -0500 (Tue, 18 Nov 2025) EndedAt: 2025-11-18 19:48:09 -0500 (Tue, 18 Nov 2025) EllapsedTime: 42.1 seconds RetCode: 0 Status: OK PackageFile: MultimodalExperiment_1.11.0.tar.gz PackageFileSize: 2.532 MiB