Package: MultiRNAflow Version: 1.9.0 Command: /home/biocbuild/bbs-3.23-bioc/R/bin/R CMD INSTALL MultiRNAflow StartedAt: 2025-11-20 15:21:45 -0500 (Thu, 20 Nov 2025) EndedAt: 2025-11-20 15:22:30 -0500 (Thu, 20 Nov 2025) EllapsedTime: 45.2 seconds RetCode: 0 Status: OK