Package: MultiRNAflow Version: 1.9.0 Command: /home/biocbuild/bbs-3.23-bioc/R/bin/R CMD check --install=check:MultiRNAflow.install-out.txt --library=/home/biocbuild/bbs-3.23-bioc/R/site-library --timings MultiRNAflow_1.9.0.tar.gz StartedAt: 2025-11-21 01:55:04 -0500 (Fri, 21 Nov 2025) EndedAt: 2025-11-21 02:08:51 -0500 (Fri, 21 Nov 2025) EllapsedTime: 826.3 seconds RetCode: 0 Status: OK CheckDir: MultiRNAflow.Rcheck Warnings: 0