Package: MultiMed Version: 2.33.0 Command: /home/biocbuild/bbs-3.23-bioc/R/bin/R CMD build --keep-empty-dirs --no-resave-data MultiMed StartedAt: 2025-10-31 19:04:15 -0400 (Fri, 31 Oct 2025) EndedAt: 2025-10-31 19:04:22 -0400 (Fri, 31 Oct 2025) EllapsedTime: 7.0 seconds RetCode: 0 Status: OK PackageFile: MultiMed_2.33.0.tar.gz PackageFileSize: 508.3 KiB