Package: MultiMed Version: 2.31.0 Command: /Library/Frameworks/R.framework/Resources/bin/R CMD INSTALL MultiMed StartedAt: 2025-10-10 15:09:45 -0400 (Fri, 10 Oct 2025) EndedAt: 2025-10-10 15:10:02 -0400 (Fri, 10 Oct 2025) EllapsedTime: 16.8 seconds RetCode: 0 Status: OK