Package: MultiMed Version: 2.31.0 Maintainer: Simina M. Boca MaintainerEmail: smb310 at georgetown.edu git_url: https://git.bioconductor.org/packages/MultiMed git_branch: devel git_last_commit: b11912b git_last_commit_date: 2025-04-15 10:32:36 -0400 (Tue, 15 Apr 2025)