Package: MultiDataSet Version: 1.37.0 Command: /home/biocbuild/R/R/bin/R CMD check --install=check:MultiDataSet.install-out.txt --library=/home/biocbuild/R/R/site-library --no-vignettes --timings MultiDataSet_1.37.0.tar.gz StartedAt: 2025-10-10 11:16:32 -0000 (Fri, 10 Oct 2025) EndedAt: 2025-10-10 11:16:36 -0000 (Fri, 10 Oct 2025) EllapsedTime: 4.0 seconds RetCode: 1 Status: ERROR CheckDir: MultiDataSet.Rcheck Warnings: NA