Package: MultiDataSet Version: 1.39.0 Command: /home/biocbuild/bbs-3.23-bioc/R/bin/R CMD build --keep-empty-dirs --no-resave-data MultiDataSet StartedAt: 2025-11-03 18:47:51 -0500 (Mon, 03 Nov 2025) EndedAt: 2025-11-03 18:48:44 -0500 (Mon, 03 Nov 2025) EllapsedTime: 53.1 seconds RetCode: 0 Status: OK PackageFile: MultiDataSet_1.39.0.tar.gz PackageFileSize: 494.7 KiB