Package: MultiBaC Version: 1.19.0 Command: /home/biocbuild/R/R/bin/R CMD INSTALL MultiBaC StartedAt: 2025-10-02 21:06:46 -0000 (Thu, 02 Oct 2025) EndedAt: 2025-10-02 21:06:53 -0000 (Thu, 02 Oct 2025) EllapsedTime: 6.8 seconds RetCode: 0 Status: OK