Package: MultiBaC Version: 1.19.0 Command: /home/biocbuild/R/R/bin/R CMD build --keep-empty-dirs --no-resave-data MultiBaC StartedAt: 2025-10-03 01:44:19 -0000 (Fri, 03 Oct 2025) EndedAt: 2025-10-03 01:45:38 -0000 (Fri, 03 Oct 2025) EllapsedTime: 79.0 seconds RetCode: 0 Status: OK PackageFile: MultiBaC_1.19.0.tar.gz PackageFileSize: 939.8 KiB