Package: MultiBaC Version: 1.19.0 Command: F:\biocbuild\bbs-3.22-bioc\R\bin\R.exe CMD INSTALL MultiBaC StartedAt: 2025-08-14 16:32:06 -0400 (Thu, 14 Aug 2025) EndedAt: 2025-08-14 16:32:22 -0400 (Thu, 14 Aug 2025) EllapsedTime: 15.9 seconds RetCode: 0 Status: OK