Package: MultiBaC Version: 1.21.0 Command: /home/biocbuild/bbs-3.23-bioc/R/bin/R CMD check --install=check:MultiBaC.install-out.txt --library=/home/biocbuild/bbs-3.23-bioc/R/site-library --timings MultiBaC_1.21.0.tar.gz StartedAt: 2025-11-21 01:53:34 -0500 (Fri, 21 Nov 2025) EndedAt: 2025-11-21 01:56:47 -0500 (Fri, 21 Nov 2025) EllapsedTime: 193.3 seconds RetCode: 0 Status: OK CheckDir: MultiBaC.Rcheck Warnings: 0