Package: MultiAssayExperiment Version: 1.35.8 Command: chmod a+r MultiAssayExperiment -R && F:\biocbuild\bbs-3.22-bioc\R\bin\R.exe CMD build --keep-empty-dirs --no-resave-data MultiAssayExperiment StartedAt: 2025-08-14 21:47:36 -0400 (Thu, 14 Aug 2025) EndedAt: 2025-08-14 21:49:03 -0400 (Thu, 14 Aug 2025) EllapsedTime: 86.7 seconds RetCode: 1 Status: ERROR PackageFile: None PackageFileSize: NA