Package: MultiAssayExperiment Version: 1.35.7 Command: rm -rf MultiAssayExperiment.buildbin-libdir && mkdir MultiAssayExperiment.buildbin-libdir && F:\biocbuild\bbs-3.22-bioc\R\bin\R.exe CMD INSTALL --build --library=MultiAssayExperiment.buildbin-libdir MultiAssayExperiment_1.35.7.tar.gz StartedAt: 2025-08-12 09:52:50 -0400 (Tue, 12 Aug 2025) EndedAt: 2025-08-12 09:58:23 -0400 (Tue, 12 Aug 2025) EllapsedTime: 332.7 seconds RetCode: 0 Status: OK PackageFile: MultiAssayExperiment_1.35.7.zip PackageFileSize: 2.18 MiB