Package: MultiAssayExperiment Version: 1.37.1 Command: /home/biocbuild/bbs-3.23-bioc/R/bin/R CMD INSTALL MultiAssayExperiment StartedAt: 2025-11-05 15:26:41 -0500 (Wed, 05 Nov 2025) EndedAt: 2025-11-05 15:27:12 -0500 (Wed, 05 Nov 2025) EllapsedTime: 30.8 seconds RetCode: 0 Status: OK