Package: MultiAssayExperiment Version: 1.37.1 Command: /home/biocbuild/bbs-3.23-bioc/R/bin/R CMD check --install=check:MultiAssayExperiment.install-out.txt --library=/home/biocbuild/bbs-3.23-bioc/R/site-library --timings MultiAssayExperiment_1.37.1.tar.gz StartedAt: 2025-11-06 01:49:08 -0500 (Thu, 06 Nov 2025) EndedAt: 2025-11-06 01:53:40 -0500 (Thu, 06 Nov 2025) EllapsedTime: 271.4 seconds RetCode: 0 Status: OK CheckDir: MultiAssayExperiment.Rcheck Warnings: 0