Package: MultiAssayExperiment Version: 1.37.1 Command: /home/biocbuild/bbs-3.23-bioc/R/bin/R CMD build --keep-empty-dirs --no-resave-data MultiAssayExperiment StartedAt: 2025-11-05 18:57:02 -0500 (Wed, 05 Nov 2025) EndedAt: 2025-11-05 18:58:01 -0500 (Wed, 05 Nov 2025) EllapsedTime: 59.1 seconds RetCode: 0 Status: OK PackageFile: MultiAssayExperiment_1.37.1.tar.gz PackageFileSize: 1.319 MiB