Package: Mulcom Version: 1.61.0 Command: /home/biocbuild/bbs-3.23-bioc/R/bin/R CMD INSTALL Mulcom StartedAt: 2025-11-05 15:20:13 -0500 (Wed, 05 Nov 2025) EndedAt: 2025-11-05 15:20:21 -0500 (Wed, 05 Nov 2025) EllapsedTime: 8.5 seconds RetCode: 0 Status: OK