Package: Mulcom Version: 1.59.0 Command: /Library/Frameworks/R.framework/Resources/bin/R CMD INSTALL Mulcom StartedAt: 2025-10-12 15:16:06 -0400 (Sun, 12 Oct 2025) EndedAt: 2025-10-12 15:16:21 -0400 (Sun, 12 Oct 2025) EllapsedTime: 14.2 seconds RetCode: 0 Status: OK