Package: Mulcom Version: 1.59.0 Command: rm -rf Mulcom.buildbin-libdir && mkdir Mulcom.buildbin-libdir && /Users/biocbuild/BBS/utils/build-universal.sh Mulcom_1.59.0.tar.gz /Library/Frameworks/R.framework/Resources/bin/R Mulcom.buildbin-libdir StartedAt: 2025-10-14 02:56:15 -0400 (Tue, 14 Oct 2025) EndedAt: 2025-10-14 02:56:31 -0400 (Tue, 14 Oct 2025) EllapsedTime: 16.3 seconds RetCode: 0 Status: OK PackageFile: Mulcom_1.59.0.tgz PackageFileSize: 1.188 MiB