Package: Mulcom Version: 1.59.0 Command: /Library/Frameworks/R.framework/Resources/bin/R CMD INSTALL Mulcom StartedAt: 2025-10-01 15:08:28 -0400 (Wed, 01 Oct 2025) EndedAt: 2025-10-01 15:08:34 -0400 (Wed, 01 Oct 2025) EllapsedTime: 5.2 seconds RetCode: 0 Status: OK