Package: Mulcom Version: 1.59.0 Command: rm -rf Mulcom.buildbin-libdir && mkdir Mulcom.buildbin-libdir && /Users/biocbuild/BBS/utils/build-universal.sh Mulcom_1.59.0.tar.gz /Library/Frameworks/R.framework/Resources/bin/R Mulcom.buildbin-libdir StartedAt: 2025-10-01 22:55:32 -0400 (Wed, 01 Oct 2025) EndedAt: 2025-10-01 22:55:36 -0400 (Wed, 01 Oct 2025) EllapsedTime: 4.1 seconds RetCode: 0 Status: OK PackageFile: Mulcom_1.59.0.tgz PackageFileSize: 1.186 MiB