Package: MuData Version: 1.13.0 Command: /home/biocbuild/R/R/bin/R CMD INSTALL MuData StartedAt: 2025-10-13 20:54:31 -0000 (Mon, 13 Oct 2025) EndedAt: 2025-10-13 20:55:03 -0000 (Mon, 13 Oct 2025) EllapsedTime: 32.3 seconds RetCode: 0 Status: OK