Package: MuData Version: 1.13.0 Command: /home/biocbuild/R/R/bin/R CMD build --keep-empty-dirs --no-resave-data MuData StartedAt: 2025-10-10 02:32:04 -0000 (Fri, 10 Oct 2025) EndedAt: 2025-10-10 02:35:07 -0000 (Fri, 10 Oct 2025) EllapsedTime: 183.3 seconds RetCode: 0 Status: OK PackageFile: MuData_1.13.0.tar.gz PackageFileSize: 1.49 MiB