Package: MuData Version: 1.13.0 Command: /home/biocbuild/bbs-3.22-bioc/R/bin/R CMD check --install=check:MuData.install-out.txt --library=/home/biocbuild/bbs-3.22-bioc/R/site-library --timings MuData_1.13.0.tar.gz StartedAt: 2025-10-06 02:15:51 -0400 (Mon, 06 Oct 2025) EndedAt: 2025-10-06 02:21:20 -0400 (Mon, 06 Oct 2025) EllapsedTime: 329.4 seconds RetCode: 0 Status: OK CheckDir: MuData.Rcheck Warnings: 0