Package: MuData Version: 1.15.0 Command: /home/biocbuild/bbs-3.23-bioc/R/bin/R CMD check --install=check:MuData.install-out.txt --library=/home/biocbuild/bbs-3.23-bioc/R/site-library --timings MuData_1.15.0.tar.gz StartedAt: 2025-11-08 01:50:49 -0500 (Sat, 08 Nov 2025) EndedAt: 2025-11-08 01:56:05 -0500 (Sat, 08 Nov 2025) EllapsedTime: 316.4 seconds RetCode: 0 Status: OK CheckDir: MuData.Rcheck Warnings: 0