Package: MuData Version: 1.15.0 Command: /home/biocbuild/bbs-3.23-bioc/R/bin/R CMD build --keep-empty-dirs --no-resave-data MuData StartedAt: 2025-11-05 18:56:55 -0500 (Wed, 05 Nov 2025) EndedAt: 2025-11-05 18:59:14 -0500 (Wed, 05 Nov 2025) EllapsedTime: 139.2 seconds RetCode: 0 Status: OK PackageFile: MuData_1.15.0.tar.gz PackageFileSize: 2.035 MiB